BEGIN:VCALENDAR
VERSION:2.0
PRODID:-//. - ECPv6.2.1//NONSGML v1.0//EN
CALSCALE:GREGORIAN
METHOD:PUBLISH
X-WR-CALNAME:.
X-ORIGINAL-URL:https://www.atalaya-tnt.com
X-WR-CALDESC:Eventos para .
REFRESH-INTERVAL;VALUE=DURATION:PT1H
X-Robots-Tag:noindex
X-PUBLISHED-TTL:PT1H
BEGIN:VTIMEZONE
TZID:Europe/Madrid
BEGIN:DAYLIGHT
TZOFFSETFROM:+0100
TZOFFSETTO:+0200
TZNAME:CEST
DTSTART:20260329T010000
END:DAYLIGHT
BEGIN:STANDARD
TZOFFSETFROM:+0200
TZOFFSETTO:+0100
TZNAME:CET
DTSTART:20261025T010000
END:STANDARD
END:VTIMEZONE
BEGIN:VEVENT
DTSTART;TZID=Europe/Madrid:20260424T200000
DTEND;TZID=Europe/Madrid:20260424T210000
DTSTAMP:20260425T175935
CREATED:20260420T074635Z
LAST-MODIFIED:20260420T113543Z
UID:10000003-1777060800-1777064400@www.atalaya-tnt.com
SUMMARY:"Yo soy Yerma" - AndanZas / TNT - Teatro Góngora\, Córdoba
DESCRIPTION:Yerma\, una mujer obsesionada por su deseo de ser madre se manifiesta anómala y señalada\, por no haberse sometido al modelo formal que nos impone la sociedad\, ya sea en el papel de esposa\, o madre\, como si aún existiera una fuerza atávica\, que determinara el cometido que debe desempeñar la mujer y que se sigue imponiendo en los distintos roles que ejercen las mujeres actuales y de otras épocas. \nYerma\, nuestra protagonista ronda la neurosis y el delirio enfermizo\, por la imposibilidad de ser madre. En esta actual propuesta “Yo soy Yerma”\, hemos querido ir un poco más lejos\, situando a la protagonista Lorquiana en un psiquiátrico\, al límite de la enfermedad mental y en el lugar en el que podrían derivar todos los personajes mencionados anteriormente en su constante lucha con la realidad y lo que verdaderamente desean. “Si yo estuviera enferma\, me gustaría que tú me cuidases. Mi mujer\, está enferma\, voy a matar ese cordero para hacerle un buen guiso de carne (…) Así soy yo\, por eso te cuido”\, declara la propia Yerma a su esposo en la obra original.
URL:https://www.atalaya-tnt.com/funcion/yo-soy-yerma-andanzas-tnt-teatro-gongora-cordoba/
LOCATION:Teatro Góngora\, Córdoba\, España
CATEGORIES:En gira
ATTACH;FMTTYPE=image/jpeg:https://www.atalaya-tnt.com/wp-content/uploads/2025/09/YO-SOY-YERMA.RECORTADA2.jpg
END:VEVENT
BEGIN:VEVENT
DTSTART;TZID=Europe/Madrid:20260426T200000
DTEND;TZID=Europe/Madrid:20260426T210000
DTSTAMP:20260425T175935
CREATED:20260420T080747Z
LAST-MODIFIED:20260420T083817Z
UID:10000004-1777233600-1777237200@www.atalaya-tnt.com
SUMMARY:"LOPE EXPRÉS" - LamaraÑa Teatro / TNT - Centro Cultural Blas Infante\, Casares.
DESCRIPTION:Dos actrices con pocos recursos y mucho ingenio\, en un último salto mortal por salvar su compañía\, se atreven a desafiar al público\, llevando a escena ¡400 comedias de Lope de Vega!…con una improvisada colaboradora. \nUn espectáculo musical gamberro que late con la belleza del verso de Lope de Vega y la ternura del payaso\, donde rendimos un homenaje a nuestro oficio teatral y a las pequeñas compañías que\, contra viento y marea\, resisten en este oficio.
URL:https://www.atalaya-tnt.com/funcion/lope-expres-un-musical-de-comedias-lamarana-teatro-tnt-centro-cultural-blas-infante/
LOCATION:Centro Cultural Blas Infante\, C. Villa\, 159\, 29690 Casares\, Málaga\, Casares\, Málaga\, 29690\, España
CATEGORIES:En gira
ATTACH;FMTTYPE=image/jpeg:https://www.atalaya-tnt.com/wp-content/uploads/2025/11/4.-Lope-Expres.jpg
END:VEVENT
END:VCALENDAR