BEGIN:VCALENDAR
VERSION:2.0
PRODID:-//. - ECPv6.2.1//NONSGML v1.0//EN
CALSCALE:GREGORIAN
METHOD:PUBLISH
X-ORIGINAL-URL:https://www.atalaya-tnt.com
X-WR-CALDESC:Eventos para .
REFRESH-INTERVAL;VALUE=DURATION:PT1H
X-Robots-Tag:noindex
X-PUBLISHED-TTL:PT1H
BEGIN:VTIMEZONE
TZID:Europe/Madrid
BEGIN:DAYLIGHT
TZOFFSETFROM:+0100
TZOFFSETTO:+0200
TZNAME:CEST
DTSTART:20260329T010000
END:DAYLIGHT
BEGIN:STANDARD
TZOFFSETFROM:+0200
TZOFFSETTO:+0100
TZNAME:CET
DTSTART:20261025T010000
END:STANDARD
END:VTIMEZONE
BEGIN:VEVENT
DTSTART;TZID=Europe/Madrid:20260502T203000
DTEND;TZID=Europe/Madrid:20260502T213000
DTSTAMP:20260425T175024
CREATED:20260417T112110Z
LAST-MODIFIED:20260421T113942Z
UID:10000001-1777753800-1777757400@www.atalaya-tnt.com
SUMMARY:UNA MIERDA PA TI – Xispazo
DESCRIPTION:“Una mierda pa ti” es una propuesta artística que explora la relación entre las raíces del flamenco y las sonoridades de la música electrónica. Un espectáculo arriesgado y audaz que busca romper con las fronteras tradicionales\, llevando al espectador a un viaje de emociones intensas y contrastes inquietantes.\n\n“Una mierda pa ti” no es solo un espectáculo\, es un viaje único que te dejará sin aliento. Una experiencia que desafía tus sentidos y te invita a vivir el flamenco y la música electrónica de una forma que nunca habías imaginado\, por qué el arte es más poderoso cuando no tiene miedo de reinventarse. \nLa obra despierta orgullo\, rebeldía y pertenencia. Orgullo de una cultura que sigue en pie\, reinventándose con cada generación. Rebeldía contra la visión estancada de la tradición\, abriendo camino para nuevas formas de expresión. Y un profundo sentido de pertenencia\, porque la identidad no es solo lo heredado\, sino lo que construimos juntos. Este show es un espectáculo arrollador donde el baile no solo celebra\, sino que cuestiona; donde la fiesta no solo entretiene\, sino que sacude. Un show donde el movimiento es también revolución.
URL:https://www.atalaya-tnt.com/funcion/una-mierda-pa-ti-xispazo/
LOCATION:Teatro del Centro TNT\, Avda. Parque de Despeñaperros\, 1\, Sevilla\, España
CATEGORIES:Centro TNT
ATTACH;FMTTYPE=image/jpeg:https://www.atalaya-tnt.com/wp-content/uploads/2026/04/cartel-baja_11zon.jpg
GEO:37.4207693;-5.9739366
X-APPLE-STRUCTURED-LOCATION;VALUE=URI;X-ADDRESS=Teatro del Centro TNT Avda. Parque de Despeñaperros 1 Sevilla España;X-APPLE-RADIUS=500;X-TITLE=Avda. Parque de Despeñaperros\, 1:geo:-5.9739366,37.4207693
END:VEVENT
END:VCALENDAR