BEGIN:VCALENDAR
VERSION:2.0
PRODID:-//. - ECPv6.2.1//NONSGML v1.0//EN
CALSCALE:GREGORIAN
METHOD:PUBLISH
X-WR-CALNAME:.
X-ORIGINAL-URL:https://www.atalaya-tnt.com
X-WR-CALDESC:Eventos para .
REFRESH-INTERVAL;VALUE=DURATION:PT1H
X-Robots-Tag:noindex
X-PUBLISHED-TTL:PT1H
BEGIN:VTIMEZONE
TZID:Europe/Madrid
BEGIN:DAYLIGHT
TZOFFSETFROM:+0100
TZOFFSETTO:+0200
TZNAME:CEST
DTSTART:20260329T010000
END:DAYLIGHT
BEGIN:STANDARD
TZOFFSETFROM:+0200
TZOFFSETTO:+0100
TZNAME:CET
DTSTART:20261025T010000
END:STANDARD
END:VTIMEZONE
BEGIN:VEVENT
DTSTART;VALUE=DATE:20260529
DTEND;VALUE=DATE:20260531
DTSTAMP:20260421T222245
CREATED:20260420T093848Z
LAST-MODIFIED:20260420T093848Z
UID:10000009-1780020000-1780106399@www.atalaya-tnt.com
SUMMARY:"El Rey se muere" - Atalaya - Beja\, Portugal
DESCRIPTION:El médico de la corte del rey Berenguer anuncia a las dos reinas\, que su esposo va a morir antes de hora y media\, como colofón al desmoronamiento que está sufriendo el reino y el caos de la Naturaleza maltratada. Berenguer\, tan despótico como siempre\, sigue dando órdenes\, pero ya nadie obedece. Se van sucediendo una serie de situaciones absurdas y cómicas mientras el rey intenta desesperadamente prolongar su vida. El personaje pasa por los cinco estadios del duelo ante la noticia de su propia muerte: negación\, ira\, negociación\, depresión y aceptación. \nFechada en 1962\, se trata de una de las más profundas meditaciones sobre la condición humana que se haya escrito para teatro\, a través de la dramatización poética de la muerte anunciada del rey Berenguer\, que bien podría ser la de cualquiera de nosotros. Una hermosa tragicomedia\, una obra maestra de la literatura dramática moderna. El rey se muere es una ingeniosa y brillante metáfora de la existencia humana y la pérdida de conciencia que genera el Poder. Un texto teatral sin tregua\, con ritmos trepidantes y diálogos sarcásticos.\n\nSon cada vez más quienes sólo se preocupan por su propio bienestar; sin empatía alguna y sin pensar en el futuro que van a legar tras su desaparición\, que ni se plantean por un momento. Así vive Berenguer\, quien representa a toda la Humanidad en una situación crepuscular apocalíptica\, donde el tiempo en que el hombre se hizo rey de la Tierra ha pasado\, porque él mismo la está llevando a la destrucción.
URL:https://www.atalaya-tnt.com/funcion/el-rey-se-muere-atalaya-beja-portugal/
LOCATION:Beja\, Portugal
CATEGORIES:En gira
ATTACH;FMTTYPE=image/jpeg:https://www.atalaya-tnt.com/wp-content/uploads/2026/04/El-rey-se-muere_-Felix-Vazquez-6.jpg
END:VEVENT
END:VCALENDAR