BEGIN:VCALENDAR
VERSION:2.0
PRODID:-//. - ECPv6.2.1//NONSGML v1.0//EN
CALSCALE:GREGORIAN
METHOD:PUBLISH
X-WR-CALNAME:.
X-ORIGINAL-URL:https://www.atalaya-tnt.com
X-WR-CALDESC:Eventos para .
REFRESH-INTERVAL;VALUE=DURATION:PT1H
X-Robots-Tag:noindex
X-PUBLISHED-TTL:PT1H
BEGIN:VTIMEZONE
TZID:Europe/Madrid
BEGIN:DAYLIGHT
TZOFFSETFROM:+0100
TZOFFSETTO:+0200
TZNAME:CEST
DTSTART:20260329T010000
END:DAYLIGHT
BEGIN:STANDARD
TZOFFSETFROM:+0200
TZOFFSETTO:+0100
TZNAME:CET
DTSTART:20261025T010000
END:STANDARD
END:VTIMEZONE
BEGIN:VEVENT
DTSTART;TZID=Europe/Madrid:20260623T223000
DTEND;TZID=Europe/Madrid:20260623T233000
DTSTAMP:20260422T033806
CREATED:20260420T102002Z
LAST-MODIFIED:20260421T074824Z
UID:10000011-1782253800-1782257400@www.atalaya-tnt.com
SUMMARY:"El Avaro de Molière" - Atalaya - Chinchilla\, Albacete
DESCRIPTION:Con El Avaro de Molière Atalaya se adentra por vez primera en el universo del dramaturgo francés. Con ocho actores en escena se enmarca en los grandes proyectos de la compañía\, y más en concreto\, entre los que se presentan en clave de musical\, tras los éxitos de los dos anteriores montajes musicales: “La Opera de 3 centavos” de Brecht y de “Marat/Sade” de Peter Weiss. Precisamente desde el estreno de éste en 2015 en el Liure el equipo artístico no había vuelto a adentrarse en el lenguaje grotesco uno de los que más alegrías le han dado a Atalaya. \nLa compañía presenta su aclamada versión de “El Avaro” de Molière en el XXX Festival de Teatro Clásico de Chinchilla (Albacete) en junio de 2026. Esta producción\, dirigida por Ricardo Iniesta\, destaca por un final inesperado y está programada como parte de un evento clave en la provincia \nAl frente de su elenco estable Atalaya pondrá a Carmen Gallardo\, una de las actrices más reconocidas del país: son 5 las nominaciones que ha obtenido a los premios Max\, además de reconocimientos explícitos de la crítica en diversos países del mundo y numerosos premios dentro y fuera de Andalucía. Las excepcionales dotes cómicas de Carmen (su encarnación de Celestina da buena muestra) así como su experiencia encarnando roles masculinos como el de Lear o el presentador de “Marat/Sade” y el espectro del padre de Hamlet (ambos en clave muy cómica) dan idea de su idoneidad para protagonizar a Harpagón\, uno de los personajes más patéticos de la dramaturgia universal. \nAtalaya Teatro ha realizado una adaptación del texto de Moliere manteniendo la médula espinal del texto\, eliminando las partes que peor han envejecido o que resulta más costumbristas e introduciendo algunos elementos del ingenioso guion que Tonino Cervi y Alberto Sordi crearon para una recreación cinematográfica de la obra de Moliere hace tres décadas. Por otro lado se potencia el carácter coral de los personajes que acompañan en escena a Harpagón\, tal como se lleva a cabo en otras adaptaciones de clásicos\, y con mayor motivo al tratarse de un musical.
URL:https://www.atalaya-tnt.com/funcion/el-avaro-de-moliere-atalaya-chinchilla-albacete/
LOCATION:Claustro Mudéjar del Convento de Santo Domingo\, Calle Arenal\, s/n\,\, Chinchilla\, Albacete\, 02520
CATEGORIES:En gira
ATTACH;FMTTYPE=image/jpeg:https://www.atalaya-tnt.com/wp-content/uploads/2024/03/Gsf_220113_317.jpg
END:VEVENT
END:VCALENDAR