BEGIN:VCALENDAR
VERSION:2.0
PRODID:-//. - ECPv6.2.1//NONSGML v1.0//EN
CALSCALE:GREGORIAN
METHOD:PUBLISH
X-ORIGINAL-URL:https://www.atalaya-tnt.com
X-WR-CALDESC:Eventos para .
REFRESH-INTERVAL;VALUE=DURATION:PT1H
X-Robots-Tag:noindex
X-PUBLISHED-TTL:PT1H
BEGIN:VTIMEZONE
TZID:Europe/Madrid
BEGIN:DAYLIGHT
TZOFFSETFROM:+0100
TZOFFSETTO:+0200
TZNAME:CEST
DTSTART:20260329T010000
END:DAYLIGHT
BEGIN:STANDARD
TZOFFSETFROM:+0200
TZOFFSETTO:+0100
TZNAME:CET
DTSTART:20261025T010000
END:STANDARD
END:VTIMEZONE
BEGIN:VEVENT
DTSTART;TZID=Europe/Madrid:20260701T190000
DTEND;TZID=Europe/Madrid:20260701T200000
DTSTAMP:20260422T052008
CREATED:20260420T112136Z
LAST-MODIFIED:20260420T112136Z
UID:10000015-1782932400-1782936000@www.atalaya-tnt.com
SUMMARY:"Lorca's Indómitas" - Atalaya - Palma del Río
DESCRIPTION:La 43 edición de Palma Feria de Artes Escénicas de Andalucía\, que se celebra del 29 de junio al 3 de julio en el municipio cordobés de Palma del Río\, ya tiene hoja de ruta. Un total de 31 propuestas conforman una programación oficial que este año apuesta decididamente por la pluralidad de lenguajes —teatro\, circo\, danza\, performance y calle— y por una profunda renovación generacional. \nLorca’s Indómitas de Atalaya Teatro estará participando este año en la Feria\, una obra que convoca a las mujeres que habitan en la obra de Federico García Lorca y las enfrenta entre sí en un territorio de rebeldía\, deseo y libertad. Las novias de Bodas de Sangre y de Así que pasen cinco años dialogan con Doña Rosita; Mariana Pineda se encuentra con el propio Federico; y figuras más subterráneas —la Mujer Gorda\, Rosa “la Camboria”— irrumpen para tensar el relato. El quinto montaje lorquiano de la compañía\, codirigido por Ricardo Iniesta y Juana Casado\, reúne a Lidia Mauduit\, Bea Ortega y Paula Rubio en un ritual escénico que cruza personajes femeninos de toda la obra de Lorca.
URL:https://www.atalaya-tnt.com/funcion/lorcas-indomitas-atalaya-palma-del-rio/
LOCATION:Sala Reina Victoria II\, Palma del Río\, Córdoba\, España
CATEGORIES:En gira
ATTACH;FMTTYPE=image/png:https://www.atalaya-tnt.com/wp-content/uploads/2026/03/Lorcas-Indomitas_-Atalaya-3.png
END:VEVENT
END:VCALENDAR