BEGIN:VCALENDAR
VERSION:2.0
PRODID:-//. - ECPv6.2.1//NONSGML v1.0//EN
CALSCALE:GREGORIAN
METHOD:PUBLISH
X-WR-CALNAME:.
X-ORIGINAL-URL:https://www.atalaya-tnt.com
X-WR-CALDESC:Eventos para .
REFRESH-INTERVAL;VALUE=DURATION:PT1H
X-Robots-Tag:noindex
X-PUBLISHED-TTL:PT1H
BEGIN:VTIMEZONE
TZID:Europe/Madrid
BEGIN:DAYLIGHT
TZOFFSETFROM:+0100
TZOFFSETTO:+0200
TZNAME:CEST
DTSTART:20260329T010000
END:DAYLIGHT
BEGIN:STANDARD
TZOFFSETFROM:+0200
TZOFFSETTO:+0100
TZNAME:CET
DTSTART:20261025T010000
END:STANDARD
END:VTIMEZONE
BEGIN:VEVENT
DTSTART;TZID=Europe/Madrid:20260923T200000
DTEND;TZID=Europe/Madrid:20260923T210000
DTSTAMP:20260425T131731
CREATED:20260424T121146Z
LAST-MODIFIED:20260424T121146Z
UID:10000019-1790193600-1790197200@www.atalaya-tnt.com
SUMMARY:"Celestina\, La Tragicomedia" - Atalaya - Mitambo\, Zimbabwe
DESCRIPTION:Celestina\, la Tragicomedia es el espectáculo que más funciones ha realizado en los más de 40 años de giras de Atalaya: cerca de 300 funciones; habiendo recorrido once países de cinco continentes y consiguiendo numerosos premios\, incluyendo los de mejor espectáculo en festivales de Moscú y de Canadá. Atalaya aborda la inmortal obra de Fernando de Rojas desde una interpretación grotesca y del teatro de la crueldad. Los actores permanecen durante todo el espectáculo en escena\, bien encarnando los personajes o bien configurando el ambiente escénico y sonoro. Destaca la riqueza de los coros que transportan al espectador al submundo de aquella época\, pero que bien pudieran ser de nuestros días. La obsesión por el dinero y el fracaso del individualismo exacerbado resultan tremendamente actuales. Celestina –encarnado aquí por la multipremiada\, Carmen Gallardo\, considerada la mejor actriz andaluza y una de las más destacadas del teatro español- resulta el personaje femenino más fascinante de nuestra literatura. El humor\, el erotismo y los conflictos de clases se dan cita en este apasionante texto que le viene a Atalaya como anillo al dedo.
URL:https://www.atalaya-tnt.com/funcion/celestina-la-tragicomedia-atalaya-mitambo-zimbabwe/
CATEGORIES:Celestina,En gira,Producciones Atalaya
ATTACH;FMTTYPE=image/jpeg:https://www.atalaya-tnt.com/wp-content/uploads/2017/04/celestina2.jpg
END:VEVENT
END:VCALENDAR